BEGIN:VCALENDAR
VERSION:2.0
PRODID:-//A.S.V. Petri Heil - ECPv6.15.20//NONSGML v1.0//EN
CALSCALE:GREGORIAN
METHOD:PUBLISH
X-ORIGINAL-URL:https://asv-petri-heil.de/cms
X-WR-CALDESC:Veranstaltungen für A.S.V. Petri Heil
REFRESH-INTERVAL;VALUE=DURATION:PT1H
X-Robots-Tag:noindex
X-PUBLISHED-TTL:PT1H
BEGIN:VTIMEZONE
TZID:Europe/Berlin
BEGIN:DAYLIGHT
TZOFFSETFROM:+0100
TZOFFSETTO:+0200
TZNAME:CEST
DTSTART:20230326T010000
END:DAYLIGHT
BEGIN:STANDARD
TZOFFSETFROM:+0200
TZOFFSETTO:+0100
TZNAME:CET
DTSTART:20231029T010000
END:STANDARD
BEGIN:DAYLIGHT
TZOFFSETFROM:+0100
TZOFFSETTO:+0200
TZNAME:CEST
DTSTART:20240331T010000
END:DAYLIGHT
BEGIN:STANDARD
TZOFFSETFROM:+0200
TZOFFSETTO:+0100
TZNAME:CET
DTSTART:20241027T010000
END:STANDARD
BEGIN:DAYLIGHT
TZOFFSETFROM:+0100
TZOFFSETTO:+0200
TZNAME:CEST
DTSTART:20250330T010000
END:DAYLIGHT
BEGIN:STANDARD
TZOFFSETFROM:+0200
TZOFFSETTO:+0100
TZNAME:CET
DTSTART:20251026T010000
END:STANDARD
END:VTIMEZONE
BEGIN:VEVENT
DTSTART;TZID=Europe/Berlin:20240329T110000
DTEND;TZID=Europe/Berlin:20240329T160000
DTSTAMP:20260424T133905
CREATED:20240207T164544Z
LAST-MODIFIED:20240220T082045Z
UID:2402-1711710000-1711728000@asv-petri-heil.de
SUMMARY:Fischessen am Karfreitag
DESCRIPTION:Zum 21. Mal seit 2001 veranstalten wir wieder unser Fischessen am Karfreitag in der Athletenhalle Riegelstraße 20 nahe dem “Stumpfen Turm”. Unser eingespieltes Küchenteam bereitet die lecker gewürzten Fische und Fischfilets frisch in der Pfanne bzw. die Calamares in der Fritteuse. Dazu gibt es wahlweise Kartoffelsalat oder Pommes sowie eine hausgemachte Knoblauchsoße. Wir bieten weiterhin attraktive Preise. \nFür Kaffeetrinker und Naschkatzen bieten wir wieder Kaffee und Kuchen in unserer Kuchenbar an. \nWir begrüßen Sie/Dich gerne als unsere Gäste.
URL:https://asv-petri-heil.de/cms/event/fischessen-am-karfreitag-3/
LOCATION:SC Frankonia Großostheim\, Riegelstraße 20\, Großostheim\, Bayern\, 63762
CATEGORIES:Feste und Feiern
END:VEVENT
END:VCALENDAR