BEGIN:VCALENDAR
VERSION:2.0
PRODID:-//A.S.V. Petri Heil - ECPv6.15.20//NONSGML v1.0//EN
CALSCALE:GREGORIAN
METHOD:PUBLISH
X-WR-CALNAME:A.S.V. Petri Heil
X-ORIGINAL-URL:https://asv-petri-heil.de/cms
X-WR-CALDESC:Veranstaltungen für A.S.V. Petri Heil
REFRESH-INTERVAL;VALUE=DURATION:PT1H
X-Robots-Tag:noindex
X-PUBLISHED-TTL:PT1H
BEGIN:VTIMEZONE
TZID:Europe/Berlin
BEGIN:DAYLIGHT
TZOFFSETFROM:+0100
TZOFFSETTO:+0200
TZNAME:CEST
DTSTART:20230326T010000
END:DAYLIGHT
BEGIN:STANDARD
TZOFFSETFROM:+0200
TZOFFSETTO:+0100
TZNAME:CET
DTSTART:20231029T010000
END:STANDARD
BEGIN:DAYLIGHT
TZOFFSETFROM:+0100
TZOFFSETTO:+0200
TZNAME:CEST
DTSTART:20240331T010000
END:DAYLIGHT
BEGIN:STANDARD
TZOFFSETFROM:+0200
TZOFFSETTO:+0100
TZNAME:CET
DTSTART:20241027T010000
END:STANDARD
BEGIN:DAYLIGHT
TZOFFSETFROM:+0100
TZOFFSETTO:+0200
TZNAME:CEST
DTSTART:20250330T010000
END:DAYLIGHT
BEGIN:STANDARD
TZOFFSETFROM:+0200
TZOFFSETTO:+0100
TZNAME:CET
DTSTART:20251026T010000
END:STANDARD
END:VTIMEZONE
BEGIN:VEVENT
DTSTART;TZID=Europe/Berlin:20240719T160000
DTEND;TZID=Europe/Berlin:20240721T140000
DTSTAMP:20260424T085642
CREATED:20240220T074024Z
LAST-MODIFIED:20240220T074245Z
UID:2476-1721404800-1721570400@asv-petri-heil.de
SUMMARY:Ausbildungszeltlager des ASV Mömlingen
DESCRIPTION:Unser Freundschaftsverein veranstaltet ein Ausbildungszeltlager\, bei dem wir ebenfalls mit unserer Jugendgruppe vertretten sind. \n  \nEin unvergessliches Angel und Outdoorwochenende in Mömlingen.
URL:https://asv-petri-heil.de/cms/event/ausbildungszeltlager-des-asv-moemlingen/
LOCATION:Mömlingen\, Mömlingen
END:VEVENT
END:VCALENDAR