BEGIN:VCALENDAR
VERSION:2.0
PRODID:-//A.S.V. Petri Heil - ECPv6.15.20//NONSGML v1.0//EN
CALSCALE:GREGORIAN
METHOD:PUBLISH
X-ORIGINAL-URL:https://asv-petri-heil.de/cms
X-WR-CALDESC:Veranstaltungen für A.S.V. Petri Heil
REFRESH-INTERVAL;VALUE=DURATION:PT1H
X-Robots-Tag:noindex
X-PUBLISHED-TTL:PT1H
BEGIN:VTIMEZONE
TZID:Europe/Berlin
BEGIN:DAYLIGHT
TZOFFSETFROM:+0100
TZOFFSETTO:+0200
TZNAME:CEST
DTSTART:20230326T010000
END:DAYLIGHT
BEGIN:STANDARD
TZOFFSETFROM:+0200
TZOFFSETTO:+0100
TZNAME:CET
DTSTART:20231029T010000
END:STANDARD
BEGIN:DAYLIGHT
TZOFFSETFROM:+0100
TZOFFSETTO:+0200
TZNAME:CEST
DTSTART:20240331T010000
END:DAYLIGHT
BEGIN:STANDARD
TZOFFSETFROM:+0200
TZOFFSETTO:+0100
TZNAME:CET
DTSTART:20241027T010000
END:STANDARD
BEGIN:DAYLIGHT
TZOFFSETFROM:+0100
TZOFFSETTO:+0200
TZNAME:CEST
DTSTART:20250330T010000
END:DAYLIGHT
BEGIN:STANDARD
TZOFFSETFROM:+0200
TZOFFSETTO:+0100
TZNAME:CET
DTSTART:20251026T010000
END:STANDARD
END:VTIMEZONE
BEGIN:VEVENT
DTSTART;TZID=Europe/Berlin:20240406T080000
DTEND;TZID=Europe/Berlin:20240406T120000
DTSTAMP:20260424T111345
CREATED:20240207T165948Z
LAST-MODIFIED:20240207T165948Z
UID:2409-1712390400-1712404800@asv-petri-heil.de
SUMMARY:2. Arbeitseinsatz
DESCRIPTION:
URL:https://asv-petri-heil.de/cms/event/2-arbeitseinsatz-3/
LOCATION:Anglersee
CATEGORIES:Bestandspflege
END:VEVENT
BEGIN:VEVENT
DTSTART;TZID=Europe/Berlin:20240413T080000
DTEND;TZID=Europe/Berlin:20240413T110000
DTSTAMP:20260424T111345
CREATED:20240207T192658Z
LAST-MODIFIED:20240207T192658Z
UID:2414-1712995200-1713006000@asv-petri-heil.de
SUMMARY:Anangeln
DESCRIPTION:
URL:https://asv-petri-heil.de/cms/event/anangeln-2/
END:VEVENT
BEGIN:VEVENT
DTSTART;TZID=Europe/Berlin:20240414T080000
DTEND;TZID=Europe/Berlin:20240414T110000
DTSTAMP:20260424T111345
CREATED:20240220T062703Z
LAST-MODIFIED:20240220T062703Z
UID:2459-1713081600-1713092400@asv-petri-heil.de
SUMMARY:1. Ausbildungsangeln der Jugend
DESCRIPTION:
URL:https://asv-petri-heil.de/cms/event/1-ausbildungsangeln-der-jugend/
LOCATION:Anglersee
END:VEVENT
BEGIN:VEVENT
DTSTART;TZID=Europe/Berlin:20240421T080000
DTEND;TZID=Europe/Berlin:20240421T110000
DTSTAMP:20260424T111345
CREATED:20240207T192551Z
LAST-MODIFIED:20240207T192551Z
UID:2412-1713686400-1713697200@asv-petri-heil.de
SUMMARY:Aktivenangeln
DESCRIPTION:
URL:https://asv-petri-heil.de/cms/event/aktivenangeln/
END:VEVENT
BEGIN:VEVENT
DTSTART;TZID=Europe/Berlin:20240427T080000
DTEND;TZID=Europe/Berlin:20240427T170000
DTSTAMP:20260424T111345
CREATED:20240220T062923Z
LAST-MODIFIED:20240220T063438Z
UID:2461-1714204800-1714237200@asv-petri-heil.de
SUMMARY:Ausflug der Ufr. Fischerjugend
DESCRIPTION:Es trifft sich die unterfränkische Fischerjugend zum jährlichen Ausflug. Mit dem Bus geht es dieses Jahr zur Fischrucht Röhnforelle und anschließend auf die Wasserkuppe mit Sommerrodelbahn
URL:https://asv-petri-heil.de/cms/event/ausflug-der-ufr-fischerjugend/
CATEGORIES:Ausflüge
END:VEVENT
BEGIN:VEVENT
DTSTART;TZID=Europe/Berlin:20240428T080000
DTEND;TZID=Europe/Berlin:20240428T110000
DTSTAMP:20260424T111345
CREATED:20240220T063035Z
LAST-MODIFIED:20240220T063035Z
UID:2463-1714291200-1714302000@asv-petri-heil.de
SUMMARY:2. Ausbildungsangeln der Jugend
DESCRIPTION:
URL:https://asv-petri-heil.de/cms/event/2-ausbildungsangeln-der-jugend/
LOCATION:Anglersee
END:VEVENT
END:VCALENDAR