BEGIN:VCALENDAR
VERSION:2.0
PRODID:-//A.S.V. Petri Heil - ECPv6.15.20//NONSGML v1.0//EN
CALSCALE:GREGORIAN
METHOD:PUBLISH
X-ORIGINAL-URL:https://asv-petri-heil.de/cms
X-WR-CALDESC:Veranstaltungen für A.S.V. Petri Heil
REFRESH-INTERVAL;VALUE=DURATION:PT1H
X-Robots-Tag:noindex
X-PUBLISHED-TTL:PT1H
BEGIN:VTIMEZONE
TZID:Europe/Berlin
BEGIN:DAYLIGHT
TZOFFSETFROM:+0100
TZOFFSETTO:+0200
TZNAME:CEST
DTSTART:20230326T010000
END:DAYLIGHT
BEGIN:STANDARD
TZOFFSETFROM:+0200
TZOFFSETTO:+0100
TZNAME:CET
DTSTART:20231029T010000
END:STANDARD
BEGIN:DAYLIGHT
TZOFFSETFROM:+0100
TZOFFSETTO:+0200
TZNAME:CEST
DTSTART:20240331T010000
END:DAYLIGHT
BEGIN:STANDARD
TZOFFSETFROM:+0200
TZOFFSETTO:+0100
TZNAME:CET
DTSTART:20241027T010000
END:STANDARD
BEGIN:DAYLIGHT
TZOFFSETFROM:+0100
TZOFFSETTO:+0200
TZNAME:CEST
DTSTART:20250330T010000
END:DAYLIGHT
BEGIN:STANDARD
TZOFFSETFROM:+0200
TZOFFSETTO:+0100
TZNAME:CET
DTSTART:20251026T010000
END:STANDARD
END:VTIMEZONE
BEGIN:VEVENT
DTSTART;TZID=Europe/Berlin:20240504T160000
DTEND;TZID=Europe/Berlin:20240504T220000
DTSTAMP:20260424T100942
CREATED:20240207T195023Z
LAST-MODIFIED:20240207T195023Z
UID:2422-1714838400-1714860000@asv-petri-heil.de
SUMMARY:Helferessen
DESCRIPTION:
URL:https://asv-petri-heil.de/cms/event/helferessen/
END:VEVENT
BEGIN:VEVENT
DTSTART;TZID=Europe/Berlin:20240519T140000
DTEND;TZID=Europe/Berlin:20240519T170000
DTSTAMP:20260424T100942
CREATED:20240220T073511Z
LAST-MODIFIED:20240220T073511Z
UID:2468-1716127200-1716138000@asv-petri-heil.de
SUMMARY:3. Ausbildungsangeln der Jugend am Main
DESCRIPTION:
URL:https://asv-petri-heil.de/cms/event/3-ausbildungsangeln-der-jugend-am-main/
LOCATION:Main
CATEGORIES:Ausbildung
END:VEVENT
END:VCALENDAR